BEGIN:VCALENDAR
VERSION:2.0
PRODID:-//Civis
CALSCALE:GREGORIAN
METHOD:PUBLISH
X-WR-CALNAME:Civis
X-ORIGINAL-URL:https://www.civis.si/ponudba/prakticna-delavnica-pregledi-delovne-opreme-in-elektro-meritve-s-pripravo-preglednih-porocil/
X-WR-CALDESC:Praktična delavnica: Pregledi delovne opreme in elektro meritve s pripravo preglednih poročil
BEGIN:VEVENT
DTSTART;TZID=Europe/Helsinki:20210909T140000
DTEND;TZID=Europe/Helsinki:20210909T170000
SUMMARY:Praktična delavnica: Pregledi delovne opreme in elektro meritve s pripravo preglednih poročil
DESCRIPTION:Odlična priložnost, da se nam pridružite na praktični delavnici, kjer boste pod strokovnim mentorstvom opravili številne elektro meritve na različnih tipih delovne opreme, ki jo bomo pripravili v te namene v našem učnem centru. Naučili pa se boste pripraviti tudi ustrezna pregledna poročila. Poleg tega pa si zagotovite še 6 točk za strokovne delavce VZD.
URL:https://www.civis.si/ponudba/prakticna-delavnica-pregledi-delovne-opreme-in-elektro-meritve-s-pripravo-preglednih-porocil/
LOCATION:
END:VEVENT
END:VCALENDAR
