BEGIN:VCALENDAR
VERSION:2.0
PRODID:-//Civis
CALSCALE:GREGORIAN
METHOD:PUBLISH
X-WR-CALNAME:Civis
X-ORIGINAL-URL:https://www.civis.si/ponudba/seminar-nov-zakon-o-varstvu-osebnih-podatkov-bistvene-novosti-zvop-2/
X-WR-CALDESC:Seminar: Nov Zakon o varstvu osebnih podatkov &#8211; bistvene novosti ZVOP-2
BEGIN:VEVENT
DTSTART;TZID=Europe/Helsinki:20230214T090000
DTEND;TZID=Europe/Helsinki:20230214T121500
SUMMARY:Seminar: Nov Zakon o varstvu osebnih podatkov – bistvene novosti ZVOP-2
DESCRIPTION:ZVOP-2 se je pričel uporabljati že 26. januarja 2023 in terja kar nekaj prilagoditev poslovanja. Za vas smo pripravili pregled bistvenih novosti, da bodo vaše prilagoditve zajele vse potrebno in hkrati potekale učinkovito ter brez pretresov.
URL:https://www.civis.si/ponudba/seminar-nov-zakon-o-varstvu-osebnih-podatkov-bistvene-novosti-zvop-2/
LOCATION:Tržaška cesta 65, 2000 Maribor
END:VEVENT
END:VCALENDAR
