BEGIN:VCALENDAR
VERSION:2.0
PRODID:-//Civis
CALSCALE:GREGORIAN
METHOD:PUBLISH
X-WR-CALNAME:Civis
X-ORIGINAL-URL:https://www.civis.si/ponudba/tecaj-za-notranje-presojevalce-po-iso-27001/
X-WR-CALDESC:Tečaj za notranje presojevalce po ISO 27001
BEGIN:VEVENT
DTSTART;TZID=Europe/Helsinki:20251022T090000
DTEND;TZID=Europe/Helsinki:20251023T150000
SUMMARY:Tečaj za notranje presojevalce po ISO 27001
DESCRIPTION:Ste pripravljeni prevzeti ključno vlogo pri zaščiti informacijske varnosti vaše organizacije? Pridružite se našemu tečaju in postanite notranji presojevalec sistemov upravljanja informacijske varnosti, v skladu z mednarodnim standardom ISO 27001! V sodelovanju s Tüv Austria d.o.o., vas vabimo na praktično delavnico v naših prostorih.
URL:https://www.civis.si/ponudba/tecaj-za-notranje-presojevalce-po-iso-27001/
LOCATION:Tržaška cesta 65
END:VEVENT
END:VCALENDAR
