BEGIN:VCALENDAR
VERSION:2.0
PRODID:-//Civis
CALSCALE:GREGORIAN
METHOD:PUBLISH
X-WR-CALNAME:Civis
X-ORIGINAL-URL:https://www.civis.si/ponudba/orodje-za-izdelavo-ocene-tveganja-za-rocno-premescanje-bremen-bremenko/
X-WR-CALDESC:Orodje za izdelavo ocene tveganja za ročno premeščanje bremen &#8211; BREMENKO
BEGIN:VEVENT
DTSTART;TZID=Europe/Helsinki:20240903T140000
DTEND;TZID=Europe/Helsinki:20240903T153000
SUMMARY:Orodje za izdelavo ocene tveganja za ročno premeščanje bremen – BREMENKO
DESCRIPTION:Ne zamudite odlične priložnosti, da podrobno in skozi realen primer pri stranki, spoznate delovanje prve oblačne aplikacije v Sloveniji, za izdelavo ocene tveganja za ročno premeščanje bremen BREMENKO!
URL:https://www.civis.si/ponudba/orodje-za-izdelavo-ocene-tveganja-za-rocno-premescanje-bremen-bremenko/
LOCATION:YouTube kanal
END:VEVENT
END:VCALENDAR
