BEGIN:VCALENDAR
VERSION:2.0
PRODID:-//Civis
CALSCALE:GREGORIAN
METHOD:PUBLISH
X-WR-CALNAME:Civis
X-ORIGINAL-URL:https://www.civis.si/ponudba/usposabljanje-za-notranje-presojevalce-za-iso-9001-in-iso14001/
X-WR-CALDESC:Usposabljanje za notranje presojevalce za ISO 9001 in ISO 14001
BEGIN:VEVENT
DTSTART;TZID=Europe/Helsinki:20260317T090000
DTEND;TZID=Europe/Helsinki:20260319T150000
SUMMARY:Usposabljanje za notranje presojevalce za ISO 9001 in ISO 14001
DESCRIPTION:Uspešni presojevalci s področja sistemov vodenja kakovosti ali ravnanja z okoljem pri svojem delu združujejo znanja, ki zajemajo celovito obvladovanje področja.  Pridružite se nam na tridnevnem usposabljanju in postanite uspešen notranji presojevalec tudi vi!
URL:https://www.civis.si/ponudba/usposabljanje-za-notranje-presojevalce-za-iso-9001-in-iso14001/
LOCATION:Tržaška cesta 65, Maribor
END:VEVENT
END:VCALENDAR
