BEGIN:VCALENDAR
VERSION:2.0
PRODID:-//Civis
CALSCALE:GREGORIAN
METHOD:PUBLISH
X-WR-CALNAME:Civis
X-ORIGINAL-URL:https://www.civis.si/ponudba/seminar-za-koordinatorje-vzd-in-clane-izs-december-2025/
X-WR-CALDESC:Seminar za koordinatorje VZD in člane IZS  &#8211; December 2025
BEGIN:VEVENT
DTSTART;TZID=Europe/Helsinki:20251218T084500
DTEND;TZID=Europe/Helsinki:20251218T121500
SUMMARY:Seminar za koordinatorje VZD in člane IZS  – December 2025
DESCRIPTION:Pridružite se nam na odličnem seminarju za koordinatorje VZD in člane IZS in si zagotovite potrdilo še pred koncem leta.
URL:https://www.civis.si/ponudba/seminar-za-koordinatorje-vzd-in-clane-izs-december-2025/
LOCATION:ZOOM
END:VEVENT
END:VCALENDAR
