BEGIN:VCALENDAR
VERSION:2.0
PRODID:-//Civis
CALSCALE:GREGORIAN
METHOD:PUBLISH
X-WR-CALNAME:Civis
X-ORIGINAL-URL:https://www.civis.si/ponudba/usposabljanje-odgovornih-oseb-za-varnost-skladiscnih-regalov-prses/
X-WR-CALDESC:Usposabljanje odgovornih oseb za varnost skladiščnih regalov &#8211;  PRSES
BEGIN:VEVENT
DTSTART;TZID=Europe/Helsinki:20260618T083000
DTEND;TZID=Europe/Helsinki:20260618T130000
SUMMARY:Usposabljanje odgovornih oseb za varnost skladiščnih regalov –  PRSES
DESCRIPTION:NOVO - za program sedaj tudi 8 TOČK za strokovne delavce VZD! Da bodo vaša skladišča ostala varna in skladna z mednarodnim standardom SIST EN 15635:2009, ki med drugim tudi zahteva, da določite osebo odgovorno za varnost skladiščnih regalov. Ta oseba bo pri nas pridobila ustrezna znanja in veščine za opravljanje teh nalog, vodenje dokumentacije in za izvajanje ustreznih pregledov skladiščnih regalov.
URL:https://www.civis.si/ponudba/usposabljanje-odgovornih-oseb-za-varnost-skladiscnih-regalov-prses/
LOCATION:Tržaška cesta 65, Maribor
END:VEVENT
END:VCALENDAR
