BEGIN:VCALENDAR
VERSION:2.0
PRODID:-//Civis
CALSCALE:GREGORIAN
METHOD:PUBLISH
X-WR-CALNAME:Civis
X-ORIGINAL-URL:https://www.civis.si/ponudba/webinar-nadzor-delodajalcev-nad-delavci-tehnicne-moznosti-nasproti-varstvu-zasebnosti/
X-WR-CALDESC:Webinar: Nadzor delodajalcev nad delavci &#8211; tehnične možnosti nasproti varstvu zasebnosti
BEGIN:VEVENT
DTSTART;TZID=Europe/Helsinki:20201020T090000
DTEND;TZID=Europe/Helsinki:20201020T120000
SUMMARY:Webinar: Nadzor delodajalcev nad delavci – tehnične možnosti nasproti varstvu zasebnosti
DESCRIPTION:Spoznajte, kakšne so dejanske možnosti nadzora, da so skladna z določili zakona in ne posežete v zasebnost zaposlenih, hkrati pa vseeno učinkovito varujete premoženje in intelektualno lastnino podjetja.
URL:https://www.civis.si/ponudba/webinar-nadzor-delodajalcev-nad-delavci-tehnicne-moznosti-nasproti-varstvu-zasebnosti/
LOCATION:
END:VEVENT
END:VCALENDAR
