BEGIN:VCALENDAR
VERSION:2.0
PRODID:-//Civis
CALSCALE:GREGORIAN
METHOD:PUBLISH
X-WR-CALNAME:Civis
X-ORIGINAL-URL:https://www.civis.si/ponudba/webinar-za-strokovne-delavce-vzd/
X-WR-CALDESC:Webinar &#8211; za strokovne delavce VZD
BEGIN:VEVENT
DTSTART;TZID=Europe/Helsinki:20201113T084500
DTEND;TZID=Europe/Helsinki:20201113T131500
SUMMARY:Webinar – za strokovne delavce VZD
DESCRIPTION:Pridružite se seminarju, ki je organiziran v skladu s Pravilnikom o stalnem strokovnem izpopolnjevanju in usposabljanju na področju varnosti in zdravja pri delu, na katerem boste prejeli POTRDILO O UDELEŽBI, ki bo izdano na podlagi omenjenega pravilnika in ovrednoteno z 8 točkami.
URL:https://www.civis.si/ponudba/webinar-za-strokovne-delavce-vzd/
LOCATION:
END:VEVENT
END:VCALENDAR
