BEGIN:VCALENDAR
VERSION:2.0
PRODID:-//Civis
CALSCALE:GREGORIAN
METHOD:PUBLISH
X-WR-CALNAME:Civis
X-ORIGINAL-URL:https://www.civis.si/ponudba/seminar-za-inzenirje-izs-2-kt-in-pooblascene-osebe-vpp/
X-WR-CALDESC:Seminar za inženirje IZS (2 KT) in pooblaščene osebe VPP
BEGIN:VEVENT
DTSTART;TZID=Europe/Helsinki:20210224T085000
DTEND;TZID=Europe/Helsinki:20210224T113000
SUMMARY:Seminar za inženirje IZS (2 KT) in pooblaščene osebe VPP
DESCRIPTION:2 kreditni točki  iz izbirnih vsebin skladno s Splošnim aktom o stalnem poklicnem usposabljanju za inženirje IZS. Pooblaščeni izvajalci za izvajanje ukrepov varstva pred požarom pa pridobite ustrezno potrdilo. Zagotavljanje požarne varnosti je ključnega pomena tako v bivalnem kot v delovnem okolju. Pa veste, da morate za ocenjevanje požarne ogroženosti od srede decembra 2020 opraviti v skladu z novo metodologijo? Kako torej v skladu z novim pravilnikom ustrezno oceniti požarno ogroženost in kakšen je vpliv potresne ogroženosti na samo požarno varnost objektov? Na vsa vprašanja vam odgovorimo na našem seminarju.
URL:https://www.civis.si/ponudba/seminar-za-inzenirje-izs-2-kt-in-pooblascene-osebe-vpp/
LOCATION:
END:VEVENT
END:VCALENDAR
