BEGIN:VCALENDAR
VERSION:2.0
PRODID:-//Civis
CALSCALE:GREGORIAN
METHOD:PUBLISH
X-WR-CALNAME:Civis
X-ORIGINAL-URL:https://www.civis.si/ponudba/pomembne-spremembe-pri-porocanju-o-embalazi-dani-na-trg-rs-in-ravnanje-z-odpadki/
X-WR-CALDESC:Pomembne spremembe pri poročanju o embalaži dani na trg RS in ravnanje z odpadki
BEGIN:VEVENT
DTSTART;TZID=Europe/Helsinki:20210318T090000
DTEND;TZID=Europe/Helsinki:20210318T123500
SUMMARY:Pomembne spremembe pri poročanju o embalaži dani na trg RS in ravnanje z odpadki
DESCRIPTION:Seminar predavatelja iz prakse, ki bo odgovoril na vsa vaša vprašanja povezana z odpadki in odpadno embalažo o kateri boste po novem morala poročati vsa podjetja v RS. Plus bonus informacije kako vaše odpadke spremeniti v denar!
URL:https://www.civis.si/ponudba/pomembne-spremembe-pri-porocanju-o-embalazi-dani-na-trg-rs-in-ravnanje-z-odpadki/
LOCATION:CIVIS d.o.o., Tržaška 65, maribor
END:VEVENT
END:VCALENDAR
