BEGIN:VCALENDAR
VERSION:2.0
PRODID:-//Civis
CALSCALE:GREGORIAN
METHOD:PUBLISH
X-WR-CALNAME:Civis
X-ORIGINAL-URL:https://www.civis.si/ponudba/novosti-s-podrocja-ravnanja-z-embalazo-in-odpadno-embalazo/
X-WR-CALDESC:Novosti s področja ravnanja z embalažo in odpadno embalažo
BEGIN:VEVENT
DTSTART;TZID=Europe/Helsinki:20210513T090000
DTEND;TZID=Europe/Helsinki:20210513T110000
SUMMARY:Novosti s področja ravnanja z embalažo in odpadno embalažo
DESCRIPTION:Vsa podjetja bodo morala po novem, o svoji embalaži dani na trg RS, poročati kar štirikrat na leto, skleniti pogodbo s shemo za ravnanje z embalažo in odpadno embalažo. Za vse bistvene informacije glede tega kako, kdo in kdaj, pa se nam pridružite!
URL:https://www.civis.si/ponudba/novosti-s-podrocja-ravnanja-z-embalazo-in-odpadno-embalazo/
LOCATION:
END:VEVENT
END:VCALENDAR
